BEGIN:VCALENDAR
VERSION:2.0
PRODID:-//81.169.145.159//NONSGML kigkonsult.se iCalcreator 2.20//
CALSCALE:GREGORIAN
METHOD:PUBLISH
X-WR-TIMEZONE:Europe/Berlin
BEGIN:VEVENT
UID:event952@Paulus-Chor Stuttgart
DTSTAMP:20260421T084529Z
CATEGORIES:Singen im Gottesdienst
DESCRIPTION:Adventsliedersingen\nKategorie: Singen im Gottesdienst\nICS-Lin
 k: https://pauluschor.de/index.php?option=com_jem&view=event&id=952:advent
 sliedersingen\n
DTSTART;TZID=Europe/Berlin:20221206T171500
DTEND;TZID=Europe/Berlin:20221206T190000
LOCATION:Hospitalhof Stuttgart\,Büchsenstr. 33\,70174 Stuttgart
SUMMARY:Adventsliedersingen
URL:https://pauluschor.de/index.php?option=com_jem&view=event&id=952:advent
 sliedersingen
END:VEVENT
END:VCALENDAR