BEGIN:VCALENDAR
VERSION:2.0
PRODID:-//81.169.145.159//NONSGML kigkonsult.se iCalcreator 2.20//
CALSCALE:GREGORIAN
METHOD:PUBLISH
X-WR-TIMEZONE:Europe/Berlin
BEGIN:VEVENT
UID:event868@Paulus-Chor Stuttgart
DTSTAMP:20260420T115904Z
CATEGORIES:Singen im Gottesdienst
DESCRIPTION:Verabschiedung Pfarrer Finkbeiner\nKategorie: Singen im Gottesd
 ienst\nICS-Link: https://pauluschor.de/index.php?option=com_jem&view=event
 &id=868:verabschiedung\n
DTSTART;TZID=Europe/Berlin:20220116T100000
DTEND;TZID=Europe/Berlin:20220116T100000
LOCATION:Pauluskirche Stuttgart\,Paulusstr. 1\,70197 Stuttgart
SUMMARY:Verabschiedung Pfarrer Finkbeiner
URL:https://pauluschor.de/index.php?option=com_jem&view=event&id=868:verabs
 chiedung
END:VEVENT
END:VCALENDAR