BEGIN:VCALENDAR
VERSION:2.0
PRODID:-//81.169.145.159//NONSGML kigkonsult.se iCalcreator 2.20//
CALSCALE:GREGORIAN
METHOD:PUBLISH
X-WR-TIMEZONE:Europe/Berlin
BEGIN:VEVENT
UID:event648@Paulus-Chor Stuttgart
DTSTAMP:20260422T202554Z
CATEGORIES:Singen im Gottesdienst
DESCRIPTION:Adventsliedersingen\nKategorie: Singen im Gottesdienst\nICS-Lin
 k: https://pauluschor.de/index.php?option=com_jem&view=event&id=648:singen
 imgd\n
DTSTART;TZID=Europe/Berlin:20181218T174000
DTEND;TZID=Europe/Berlin:20181218T183000
LOCATION:Hospitalhof Stuttgart\,Büchsenstr. 33\,70174 Stuttgart
SUMMARY:Adventsliedersingen
URL:https://pauluschor.de/index.php?option=com_jem&view=event&id=648:singen
 imgd
END:VEVENT
END:VCALENDAR