BEGIN:VCALENDAR
VERSION:2.0
PRODID:-//81.169.145.159//NONSGML kigkonsult.se iCalcreator 2.20//
CALSCALE:GREGORIAN
METHOD:PUBLISH
X-WR-TIMEZONE:Europe/Berlin
BEGIN:VEVENT
UID:event370@Paulus-Chor Stuttgart
DTSTAMP:20260420T005223Z
CATEGORIES:Singen im Gottesdienst
DESCRIPTION:Psalmenjahr II\nKategorie: Singen im Gottesdienst\nICS-Link: ht
 tps://pauluschor.de/index.php?option=com_jem&view=event&id=370:Singen im G
 D\n
DTSTART;TZID=Europe/Berlin:20140413T100000
DTEND;TZID=Europe/Berlin:20140413T110000
LOCATION:Pauluskirche Stuttgart\,Paulusstr. 1\,70197 Stuttgart
SUMMARY:Psalmenjahr II
END:VEVENT
END:VCALENDAR