BEGIN:VCALENDAR
VERSION:2.0
PRODID:-//81.169.145.159//NONSGML kigkonsult.se iCalcreator 2.20//
CALSCALE:GREGORIAN
METHOD:PUBLISH
X-WR-TIMEZONE:Europe/Berlin
BEGIN:VEVENT
UID:event1210@Paulus-Chor Stuttgart
DTSTAMP:20260420T112527Z
CATEGORIES:Probe
DESCRIPTION:Probe\nKategorie: Probe\nICS-Link: https://pauluschor.de/index.
 php?option=com_jem&view=event&id=1210:probe\n
DTSTART;TZID=Europe/Berlin:20260423T200000
DTEND;TZID=Europe/Berlin:20260423T200000
LOCATION:Theodor-Traub-Saal\,Paulusstr. 1\,70197 Stuttgart\,Germany
SUMMARY:Probe
URL:https://pauluschor.de/index.php?option=com_jem&view=event&id=1210:probe
END:VEVENT
BEGIN:VEVENT
UID:event1211@Paulus-Chor Stuttgart
DTSTAMP:20260420T112527Z
CATEGORIES:Probe
DESCRIPTION:Probe\nKategorie: Probe\nICS-Link: https://pauluschor.de/index.
 php?option=com_jem&view=event&id=1211:probe\n
DTSTART;TZID=Europe/Berlin:20260430T200000
DTEND;TZID=Europe/Berlin:20260430T200000
LOCATION:Theodor-Traub-Saal\,Paulusstr. 1\,70197 Stuttgart\,Germany
SUMMARY:Probe
URL:https://pauluschor.de/index.php?option=com_jem&view=event&id=1211:probe
END:VEVENT
BEGIN:VEVENT
UID:event1212@Paulus-Chor Stuttgart
DTSTAMP:20260420T112527Z
CATEGORIES:Probe
DESCRIPTION:Probe\nKategorie: Probe\nICS-Link: https://pauluschor.de/index.
 php?option=com_jem&view=event&id=1212:probe\n
DTSTART;TZID=Europe/Berlin:20260507T200000
DTEND;TZID=Europe/Berlin:20260507T200000
LOCATION:Theodor-Traub-Saal\,Paulusstr. 1\,70197 Stuttgart\,Germany
SUMMARY:Probe
URL:https://pauluschor.de/index.php?option=com_jem&view=event&id=1212:probe
END:VEVENT
BEGIN:VEVENT
UID:event1214@Paulus-Chor Stuttgart
DTSTAMP:20260420T112527Z
CATEGORIES:Probe
DESCRIPTION:Probe\nKategorie: Probe\nICS-Link: https://pauluschor.de/index.
 php?option=com_jem&view=event&id=1214:probe\n
DTSTART;TZID=Europe/Berlin:20260521T200000
DTEND;TZID=Europe/Berlin:20260521T200000
LOCATION:Theodor-Traub-Saal\,Paulusstr. 1\,70197 Stuttgart\,Germany
SUMMARY:Probe
URL:https://pauluschor.de/index.php?option=com_jem&view=event&id=1214:probe
END:VEVENT
BEGIN:VEVENT
UID:event1217@Paulus-Chor Stuttgart
DTSTAMP:20260420T112527Z
CATEGORIES:Probe
DESCRIPTION:Probe\nKategorie: Probe\nICS-Link: https://pauluschor.de/index.
 php?option=com_jem&view=event&id=1217:probe\n
DTSTART;TZID=Europe/Berlin:20260611T200000
DTEND;TZID=Europe/Berlin:20260611T200000
LOCATION:Theodor-Traub-Saal\,Paulusstr. 1\,70197 Stuttgart\,Germany
SUMMARY:Probe
URL:https://pauluschor.de/index.php?option=com_jem&view=event&id=1217:probe
END:VEVENT
BEGIN:VEVENT
UID:event1218@Paulus-Chor Stuttgart
DTSTAMP:20260420T112527Z
CATEGORIES:Probe
DESCRIPTION:Probe\nKategorie: Probe\nICS-Link: https://pauluschor.de/index.
 php?option=com_jem&view=event&id=1218:probe\n
DTSTART;TZID=Europe/Berlin:20260618T200000
DTEND;TZID=Europe/Berlin:20260618T200000
LOCATION:Theodor-Traub-Saal\,Paulusstr. 1\,70197 Stuttgart\,Germany
SUMMARY:Probe
URL:https://pauluschor.de/index.php?option=com_jem&view=event&id=1218:probe
END:VEVENT
BEGIN:VEVENT
UID:event1219@Paulus-Chor Stuttgart
DTSTAMP:20260420T112527Z
CATEGORIES:Probe
DESCRIPTION:Probe\nKategorie: Probe\nICS-Link: https://pauluschor.de/index.
 php?option=com_jem&view=event&id=1219:probe\n
DTSTART;TZID=Europe/Berlin:20260625T200000
DTEND;TZID=Europe/Berlin:20260625T200000
LOCATION:Theodor-Traub-Saal\,Paulusstr. 1\,70197 Stuttgart\,Germany
SUMMARY:Probe
URL:https://pauluschor.de/index.php?option=com_jem&view=event&id=1219:probe
END:VEVENT
BEGIN:VEVENT
UID:event1220@Paulus-Chor Stuttgart
DTSTAMP:20260420T112527Z
CATEGORIES:Probe
DESCRIPTION:Probe\nKategorie: Probe\nICS-Link: https://pauluschor.de/index.
 php?option=com_jem&view=event&id=1220:probe\n
DTSTART;TZID=Europe/Berlin:20260702T200000
DTEND;TZID=Europe/Berlin:20260702T200000
LOCATION:Theodor-Traub-Saal\,Paulusstr. 1\,70197 Stuttgart\,Germany
SUMMARY:Probe
URL:https://pauluschor.de/index.php?option=com_jem&view=event&id=1220:probe
END:VEVENT
BEGIN:VEVENT
UID:event1249@Paulus-Chor Stuttgart
DTSTAMP:20260420T112527Z
CATEGORIES:Probe
DESCRIPTION:Generalprobe\nKategorie: Probe\nICS-Link: https://pauluschor.de
 /index.php?option=com_jem&view=event&id=1249:generalprobe\n
DTSTART;TZID=Europe/Berlin:20260704T100000
DTEND;TZID=Europe/Berlin:20260704T120000
LOCATION:Pauluskirche Stuttgart\,Paulusstr. 1\,70197 Stuttgart\,Germany
SUMMARY:Generalprobe
URL:https://pauluschor.de/index.php?option=com_jem&view=event&id=1249:gener
 alprobe
END:VEVENT
BEGIN:VEVENT
UID:event1251@Paulus-Chor Stuttgart
DTSTAMP:20260420T112527Z
CATEGORIES:Probe
DESCRIPTION:Einsingprobe\nKategorie: Probe\nICS-Link: https://pauluschor.de
 /index.php?option=com_jem&view=event&id=1251:einsingprobe\n
DTSTART;TZID=Europe/Berlin:20260705T084500
DTEND;TZID=Europe/Berlin:20260705T084500
LOCATION:Pauluskirche Stuttgart\,Paulusstr. 1\,70197 Stuttgart\,Germany
SUMMARY:Einsingprobe
URL:https://pauluschor.de/index.php?option=com_jem&view=event&id=1251:einsi
 ngprobe
END:VEVENT
BEGIN:VEVENT
UID:event1250@Paulus-Chor Stuttgart
DTSTAMP:20260420T112527Z
CATEGORIES:Singen im Gottesdienst
DESCRIPTION:J.S. Bach: Wir danken dir\, Gott\, wir danken dir\nKategorie: S
 ingen im Gottesdienst\nICS-Link: https://pauluschor.de/index.php?option=co
 m_jem&view=event&id=1250:j-s-bach-wir-danken-dir-gott-wir-danken-dir\n
DTSTART;TZID=Europe/Berlin:20260705T100000
DTEND;TZID=Europe/Berlin:20260705T100000
LOCATION:Pauluskirche Stuttgart\,Paulusstr. 1\,70197 Stuttgart\,Germany
SUMMARY:J.S. Bach: Wir danken dir\, Gott\, wir danken dir
URL:https://pauluschor.de/index.php?option=com_jem&view=event&id=1250:j-s-b
 ach-wir-danken-dir-gott-wir-danken-dir
END:VEVENT
BEGIN:VEVENT
UID:event1221@Paulus-Chor Stuttgart
DTSTAMP:20260420T112527Z
CATEGORIES:Probe
DESCRIPTION:Probe\nKategorie: Probe\nICS-Link: https://pauluschor.de/index.
 php?option=com_jem&view=event&id=1221:probe\n
DTSTART;TZID=Europe/Berlin:20260709T200000
DTEND;TZID=Europe/Berlin:20260709T200000
LOCATION:Theodor-Traub-Saal\,Paulusstr. 1\,70197 Stuttgart\,Germany
SUMMARY:Probe
URL:https://pauluschor.de/index.php?option=com_jem&view=event&id=1221:probe
END:VEVENT
BEGIN:VEVENT
UID:event1222@Paulus-Chor Stuttgart
DTSTAMP:20260420T112527Z
CATEGORIES:Probe
DESCRIPTION:Probe\nKategorie: Probe\nICS-Link: https://pauluschor.de/index.
 php?option=com_jem&view=event&id=1222:probe\n
DTSTART;TZID=Europe/Berlin:20260716T200000
DTEND;TZID=Europe/Berlin:20260716T200000
LOCATION:Theodor-Traub-Saal\,Paulusstr. 1\,70197 Stuttgart\,Germany
SUMMARY:Probe
URL:https://pauluschor.de/index.php?option=com_jem&view=event&id=1222:probe
END:VEVENT
BEGIN:VEVENT
UID:event1223@Paulus-Chor Stuttgart
DTSTAMP:20260420T112527Z
CATEGORIES:Probe
DESCRIPTION:Probe\nKategorie: Probe\nICS-Link: https://pauluschor.de/index.
 php?option=com_jem&view=event&id=1223:probe\n
DTSTART;TZID=Europe/Berlin:20260723T200000
DTEND;TZID=Europe/Berlin:20260723T200000
LOCATION:Theodor-Traub-Saal\,Paulusstr. 1\,70197 Stuttgart\,Germany
SUMMARY:Probe
URL:https://pauluschor.de/index.php?option=com_jem&view=event&id=1223:probe
END:VEVENT
BEGIN:VEVENT
UID:event1231@Paulus-Chor Stuttgart
DTSTAMP:20260420T112527Z
CATEGORIES:Probe
DESCRIPTION:Probe\nKategorie: Probe\nICS-Link: https://pauluschor.de/index.
 php?option=com_jem&view=event&id=1231:probe\n
DTSTART;TZID=Europe/Berlin:20260917T200000
DTEND;TZID=Europe/Berlin:20260917T200000
LOCATION:Theodor-Traub-Saal\,Paulusstr. 1\,70197 Stuttgart\,Germany
SUMMARY:Probe
URL:https://pauluschor.de/index.php?option=com_jem&view=event&id=1231:probe
END:VEVENT
BEGIN:VEVENT
UID:event1232@Paulus-Chor Stuttgart
DTSTAMP:20260420T112527Z
CATEGORIES:Probe
DESCRIPTION:Probe\nKategorie: Probe\nICS-Link: https://pauluschor.de/index.
 php?option=com_jem&view=event&id=1232:probe\n
DTSTART;TZID=Europe/Berlin:20260924T200000
DTEND;TZID=Europe/Berlin:20260924T200000
LOCATION:Theodor-Traub-Saal\,Paulusstr. 1\,70197 Stuttgart\,Germany
SUMMARY:Probe
URL:https://pauluschor.de/index.php?option=com_jem&view=event&id=1232:probe
END:VEVENT
BEGIN:VEVENT
UID:event1233@Paulus-Chor Stuttgart
DTSTAMP:20260420T112527Z
CATEGORIES:Probe
DESCRIPTION:Probe\nKategorie: Probe\nICS-Link: https://pauluschor.de/index.
 php?option=com_jem&view=event&id=1233:probe\n
DTSTART;TZID=Europe/Berlin:20261001T200000
DTEND;TZID=Europe/Berlin:20261001T200000
LOCATION:Theodor-Traub-Saal\,Paulusstr. 1\,70197 Stuttgart\,Germany
SUMMARY:Probe
URL:https://pauluschor.de/index.php?option=com_jem&view=event&id=1233:probe
END:VEVENT
BEGIN:VEVENT
UID:event1234@Paulus-Chor Stuttgart
DTSTAMP:20260420T112527Z
CATEGORIES:Probe
DESCRIPTION:Probe\nKategorie: Probe\nICS-Link: https://pauluschor.de/index.
 php?option=com_jem&view=event&id=1234:probe\n
DTSTART;TZID=Europe/Berlin:20261008T200000
DTEND;TZID=Europe/Berlin:20261008T200000
LOCATION:Theodor-Traub-Saal\,Paulusstr. 1\,70197 Stuttgart\,Germany
SUMMARY:Probe
URL:https://pauluschor.de/index.php?option=com_jem&view=event&id=1234:probe
END:VEVENT
BEGIN:VEVENT
UID:event1235@Paulus-Chor Stuttgart
DTSTAMP:20260420T112527Z
CATEGORIES:Probe
DESCRIPTION:Probe\nKategorie: Probe\nICS-Link: https://pauluschor.de/index.
 php?option=com_jem&view=event&id=1235:probe\n
DTSTART;TZID=Europe/Berlin:20261015T200000
DTEND;TZID=Europe/Berlin:20261015T200000
LOCATION:Theodor-Traub-Saal\,Paulusstr. 1\,70197 Stuttgart\,Germany
SUMMARY:Probe
URL:https://pauluschor.de/index.php?option=com_jem&view=event&id=1235:probe
END:VEVENT
BEGIN:VEVENT
UID:event1114@Paulus-Chor Stuttgart
DTSTAMP:20260420T112527Z
CATEGORIES:Chorfreizeit
DESCRIPTION:Chorfreizeit in Ochsenhausen\nKategorie: Chorfreizeit\nICS-Link
 : https://pauluschor.de/index.php?option=com_jem&view=event&id=1114:ochsen
 hausen\n
DTSTART;TZID=Europe/Berlin:20261016T170000
DTEND;TZID=Europe/Berlin:20261018T140000
LOCATION:Landesakademie Ochsenhausen\,Schlossbezirk 7\,88416 Ochsenhausen\,
 Germany
SUMMARY:Chorfreizeit in Ochsenhausen
URL:https://pauluschor.de/index.php?option=com_jem&view=event&id=1114:ochse
 nhausen
END:VEVENT
BEGIN:VEVENT
UID:event1236@Paulus-Chor Stuttgart
DTSTAMP:20260420T112527Z
CATEGORIES:Probe
DESCRIPTION:Probe\nKategorie: Probe\nICS-Link: https://pauluschor.de/index.
 php?option=com_jem&view=event&id=1236:probe\n
DTSTART;TZID=Europe/Berlin:20261022T200000
DTEND;TZID=Europe/Berlin:20261022T200000
LOCATION:Theodor-Traub-Saal\,Paulusstr. 1\,70197 Stuttgart\,Germany
SUMMARY:Probe
URL:https://pauluschor.de/index.php?option=com_jem&view=event&id=1236:probe
END:VEVENT
BEGIN:VEVENT
UID:event1238@Paulus-Chor Stuttgart
DTSTAMP:20260420T112527Z
CATEGORIES:Probe
DESCRIPTION:Probe\nKategorie: Probe\nICS-Link: https://pauluschor.de/index.
 php?option=com_jem&view=event&id=1238:probe\n
DTSTART;TZID=Europe/Berlin:20261105T200000
DTEND;TZID=Europe/Berlin:20261105T200000
LOCATION:Theodor-Traub-Saal\,Paulusstr. 1\,70197 Stuttgart\,Germany
SUMMARY:Probe
URL:https://pauluschor.de/index.php?option=com_jem&view=event&id=1238:probe
END:VEVENT
BEGIN:VEVENT
UID:event1239@Paulus-Chor Stuttgart
DTSTAMP:20260420T112527Z
CATEGORIES:Probe
DESCRIPTION:Probe\nKategorie: Probe\nICS-Link: https://pauluschor.de/index.
 php?option=com_jem&view=event&id=1239:probe\n
DTSTART;TZID=Europe/Berlin:20261112T200000
DTEND;TZID=Europe/Berlin:20261112T200000
LOCATION:Theodor-Traub-Saal\,Paulusstr. 1\,70197 Stuttgart\,Germany
SUMMARY:Probe
URL:https://pauluschor.de/index.php?option=com_jem&view=event&id=1239:probe
END:VEVENT
BEGIN:VEVENT
UID:event1240@Paulus-Chor Stuttgart
DTSTAMP:20260420T112527Z
CATEGORIES:Probe
DESCRIPTION:Probe\nKategorie: Probe\nICS-Link: https://pauluschor.de/index.
 php?option=com_jem&view=event&id=1240:probe\n
DTSTART;TZID=Europe/Berlin:20261119T200000
DTEND;TZID=Europe/Berlin:20261119T200000
LOCATION:Theodor-Traub-Saal\,Paulusstr. 1\,70197 Stuttgart\,Germany
SUMMARY:Probe
URL:https://pauluschor.de/index.php?option=com_jem&view=event&id=1240:probe
END:VEVENT
BEGIN:VEVENT
UID:event1252@Paulus-Chor Stuttgart
DTSTAMP:20260420T112527Z
CATEGORIES:Konzert
DESCRIPTION:G. Verdi: Messa da Requiem\nKategorie: Konzert\nICS-Link: https
 ://pauluschor.de/index.php?option=com_jem&view=event&id=1252:g-verdi-messa
 -da-requiem\n
DTSTART;VALUE=DATE:20261121
DTEND;VALUE=DATE:20261122
SUMMARY:G. Verdi: Messa da Requiem
URL:https://pauluschor.de/index.php?option=com_jem&view=event&id=1252:g-ver
 di-messa-da-requiem
END:VEVENT
BEGIN:VEVENT
UID:event1253@Paulus-Chor Stuttgart
DTSTAMP:20260420T112527Z
CATEGORIES:Konzert
DESCRIPTION:G. Verdi: Messa da Requiem\nKategorie: Konzert\nICS-Link: https
 ://pauluschor.de/index.php?option=com_jem&view=event&id=1253:g-verdi-messa
 -da-requiem\n
DTSTART;VALUE=DATE:20261122
DTEND;VALUE=DATE:20261123
SUMMARY:G. Verdi: Messa da Requiem
URL:https://pauluschor.de/index.php?option=com_jem&view=event&id=1253:g-ver
 di-messa-da-requiem
END:VEVENT
BEGIN:VEVENT
UID:event1241@Paulus-Chor Stuttgart
DTSTAMP:20260420T112527Z
CATEGORIES:Probe
DESCRIPTION:Probe\nKategorie: Probe\nICS-Link: https://pauluschor.de/index.
 php?option=com_jem&view=event&id=1241:probe\n
DTSTART;TZID=Europe/Berlin:20261126T200000
DTEND;TZID=Europe/Berlin:20261126T200000
LOCATION:Theodor-Traub-Saal\,Paulusstr. 1\,70197 Stuttgart\,Germany
SUMMARY:Probe
URL:https://pauluschor.de/index.php?option=com_jem&view=event&id=1241:probe
END:VEVENT
BEGIN:VEVENT
UID:event1242@Paulus-Chor Stuttgart
DTSTAMP:20260420T112527Z
CATEGORIES:Probe
DESCRIPTION:Probe\nKategorie: Probe\nICS-Link: https://pauluschor.de/index.
 php?option=com_jem&view=event&id=1242:probe\n
DTSTART;TZID=Europe/Berlin:20261203T200000
DTEND;TZID=Europe/Berlin:20261203T200000
LOCATION:Theodor-Traub-Saal\,Paulusstr. 1\,70197 Stuttgart\,Germany
SUMMARY:Probe
URL:https://pauluschor.de/index.php?option=com_jem&view=event&id=1242:probe
END:VEVENT
BEGIN:VEVENT
UID:event1243@Paulus-Chor Stuttgart
DTSTAMP:20260420T112527Z
CATEGORIES:Probe
DESCRIPTION:Probe\nKategorie: Probe\nICS-Link: https://pauluschor.de/index.
 php?option=com_jem&view=event&id=1243:probe\n
DTSTART;TZID=Europe/Berlin:20261210T200000
DTEND;TZID=Europe/Berlin:20261210T200000
LOCATION:Theodor-Traub-Saal\,Paulusstr. 1\,70197 Stuttgart\,Germany
SUMMARY:Probe
URL:https://pauluschor.de/index.php?option=com_jem&view=event&id=1243:probe
END:VEVENT
BEGIN:VEVENT
UID:event1244@Paulus-Chor Stuttgart
DTSTAMP:20260420T112527Z
CATEGORIES:Probe
DESCRIPTION:Probe\nKategorie: Probe\nICS-Link: https://pauluschor.de/index.
 php?option=com_jem&view=event&id=1244:probe\n
DTSTART;TZID=Europe/Berlin:20261217T200000
DTEND;TZID=Europe/Berlin:20261217T200000
LOCATION:Theodor-Traub-Saal\,Paulusstr. 1\,70197 Stuttgart\,Germany
SUMMARY:Probe
URL:https://pauluschor.de/index.php?option=com_jem&view=event&id=1244:probe
END:VEVENT
BEGIN:VEVENT
UID:event1256@Paulus-Chor Stuttgart
DTSTAMP:20260420T112527Z
CATEGORIES:Probe
DESCRIPTION:Hauptprobe\nKategorie: Probe\nICS-Link: https://pauluschor.de/i
 ndex.php?option=com_jem&view=event&id=1256:hauptprobe\n
DTSTART;TZID=Europe/Berlin:20261223T190000
DTEND;TZID=Europe/Berlin:20261223T220000
LOCATION:Pauluskirche Stuttgart\,Paulusstr. 1\,70197 Stuttgart\,Germany
SUMMARY:Hauptprobe
URL:https://pauluschor.de/index.php?option=com_jem&view=event&id=1256:haupt
 probe
END:VEVENT
BEGIN:VEVENT
UID:event1255@Paulus-Chor Stuttgart
DTSTAMP:20260420T112527Z
CATEGORIES:Probe
DESCRIPTION:Generalprobe\nKategorie: Probe\nICS-Link: https://pauluschor.de
 /index.php?option=com_jem&view=event&id=1255:generalprobe\n
DTSTART;TZID=Europe/Berlin:20261224T210000
DTEND;TZID=Europe/Berlin:20261224T220000
LOCATION:Pauluskirche Stuttgart\,Paulusstr. 1\,70197 Stuttgart\,Germany
SUMMARY:Generalprobe
URL:https://pauluschor.de/index.php?option=com_jem&view=event&id=1255:gener
 alprobe
END:VEVENT
BEGIN:VEVENT
UID:event1254@Paulus-Chor Stuttgart
DTSTAMP:20260420T112527Z
CATEGORIES:Singen im Gottesdienst
DESCRIPTION:Singen zur Christnacht\nKategorie: Singen im Gottesdienst\nICS-
 Link: https://pauluschor.de/index.php?option=com_jem&view=event&id=1254:ch
 ristnacht\n
DTSTART;TZID=Europe/Berlin:20261224T223000
DTEND;TZID=Europe/Berlin:20261224T223000
LOCATION:Pauluskirche Stuttgart\,Paulusstr. 1\,70197 Stuttgart\,Germany
SUMMARY:Singen zur Christnacht
URL:https://pauluschor.de/index.php?option=com_jem&view=event&id=1254:chris
 tnacht
END:VEVENT
BEGIN:VEVENT
UID:event1257@Paulus-Chor Stuttgart
DTSTAMP:20260420T112527Z
CATEGORIES:Probe
DESCRIPTION:Probe\nKategorie: Probe\nICS-Link: https://pauluschor.de/index.
 php?option=com_jem&view=event&id=1257:probe\n
DTSTART;TZID=Europe/Berlin:20270107T200000
DTEND;TZID=Europe/Berlin:20270107T200000
LOCATION:Theodor-Traub-Saal\,Paulusstr. 1\,70197 Stuttgart\,Germany
SUMMARY:Probe
URL:https://pauluschor.de/index.php?option=com_jem&view=event&id=1257:probe
END:VEVENT
END:VCALENDAR