BEGIN:VCALENDAR
VERSION:2.0
PRODID:-//81.169.145.159//NONSGML kigkonsult.se iCalcreator 2.20//
CALSCALE:GREGORIAN
METHOD:PUBLISH
X-WR-TIMEZONE:Europe/Berlin
BEGIN:VEVENT
UID:event571@Paulus-Chor Stuttgart
DTSTAMP:20260420T165109Z
CATEGORIES:Probe
DESCRIPTION:Einsingprobe\nKategorie: Probe\nICS-Link: https://pauluschor.de
 /index.php?option=com_jem&view=event&id=571:probe\n
DTSTART;TZID=Europe/Berlin:20171112T094000
DTEND;TZID=Europe/Berlin:20171112T105000
LOCATION:Pauluskirche Stuttgart\,Paulusstr. 1\,70197 Stuttgart
SUMMARY:Einsingprobe
URL:https://pauluschor.de/index.php?option=com_jem&view=event&id=571:probe
END:VEVENT
END:VCALENDAR