BEGIN:VCALENDAR
VERSION:2.0
PRODID:-//81.169.145.159//NONSGML kigkonsult.se iCalcreator 2.20//
CALSCALE:GREGORIAN
METHOD:PUBLISH
X-WR-TIMEZONE:Europe/Berlin
BEGIN:VEVENT
UID:event305@Paulus-Chor Stuttgart
DTSTAMP:20260419T190315Z
CATEGORIES:Probe
DESCRIPTION:Probe Berlioz\nKategorie: Probe\nICS-Link: https://pauluschor.d
 e/index.php?option=com_jem&view=event&id=305:Probe\n
DTSTART;TZID=Europe/Berlin:20130409T183000
DTEND;TZID=Europe/Berlin:20130409T220000
LOCATION:Universität Stuttgart\,Keplerstr\, 17\,70174 Stuttgart
SUMMARY:Probe Berlioz
URL:https://pauluschor.de/index.php?option=com_jem&view=event&id=305:Probe
END:VEVENT
END:VCALENDAR