BEGIN:VCALENDAR
VERSION:2.0
PRODID:-//81.169.145.159//NONSGML kigkonsult.se iCalcreator 2.20//
CALSCALE:GREGORIAN
METHOD:PUBLISH
X-WR-TIMEZONE:Europe/Berlin
BEGIN:VEVENT
UID:event977@Paulus-Chor Stuttgart
DTSTAMP:20260420T223124Z
CATEGORIES:Probe
DESCRIPTION:Probe\nKategorie: Probe\nICS-Link: https://pauluschor.de/index.
 php?option=com_jem&view=event&id=977:probe\n
DTSTART;TZID=Europe/Berlin:20230622T194500
DTEND;TZID=Europe/Berlin:20230622T214500
LOCATION:Hohenkreuzkirche Esslingen\,Seracher Straße 2 - 4\,73732 Esslingen
  am Neckar
SUMMARY:Probe
URL:https://pauluschor.de/index.php?option=com_jem&view=event&id=977:probe
END:VEVENT
END:VCALENDAR