BEGIN:VCALENDAR
VERSION:2.0
PRODID:-//81.169.145.159//NONSGML kigkonsult.se iCalcreator 2.20//
CALSCALE:GREGORIAN
METHOD:PUBLISH
X-WR-TIMEZONE:Europe/Berlin
BEGIN:VEVENT
UID:event1032@Paulus-Chor Stuttgart
DTSTAMP:20260420T193724Z
CATEGORIES:Probe
DESCRIPTION:Probe in den Ferien\nKategorie: Probe\nICS-Link: https://paulus
 chor.de/index.php?option=com_jem&view=event&id=1032:probe\n
DTSTART;TZID=Europe/Berlin:20230907T200000
DTEND;TZID=Europe/Berlin:20230907T220000
LOCATION:Theodor-Traub-Saal\,Paulusstr. 1\,70197 Stuttgart
SUMMARY:Probe in den Ferien
URL:https://pauluschor.de/index.php?option=com_jem&view=event&id=1032:probe
END:VEVENT
END:VCALENDAR