BEGIN:VCALENDAR
VERSION:2.0
PRODID:-//81.169.145.159//NONSGML kigkonsult.se iCalcreator 2.20//
CALSCALE:GREGORIAN
METHOD:PUBLISH
X-WR-TIMEZONE:Europe/Berlin
BEGIN:VEVENT
UID:event931@Paulus-Chor Stuttgart
DTSTAMP:20260420T210738Z
CATEGORIES:Konzert
DESCRIPTION:Schumann u.a.\nKategorie: Konzert\nICS-Link: https://pauluschor
 .de/index.php?option=com_jem&view=event&id=931:schumann\n
DTSTART;TZID=Europe/Berlin:20220710T190000
DTEND;TZID=Europe/Berlin:20220710T203000
LOCATION:Pauluskirche Stuttgart\,Paulusstr. 1\,70197 Stuttgart
SUMMARY:Schumann u.a.
URL:https://pauluschor.de/index.php?option=com_jem&view=event&id=931:schuma
 nn
END:VEVENT
END:VCALENDAR