BEGIN:VCALENDAR
VERSION:2.0
PRODID:-//81.169.145.159//NONSGML kigkonsult.se iCalcreator 2.20//
CALSCALE:GREGORIAN
METHOD:PUBLISH
X-WR-TIMEZONE:Europe/Berlin
BEGIN:VEVENT
UID:event723@Paulus-Chor Stuttgart
DTSTAMP:20260422T035314Z
CATEGORIES:Probe
DESCRIPTION:Sonderprobe\nKategorie: Probe\nICS-Link: https://pauluschor.de/
 index.php?option=com_jem&view=event&id=723:sonderprobe\n
DTSTART;TZID=Europe/Berlin:20200105T153000
DTEND;TZID=Europe/Berlin:20200105T180000
LOCATION:Pauluskirche Stuttgart\,Paulusstr. 1\,70197 Stuttgart
SUMMARY:Sonderprobe
URL:https://pauluschor.de/index.php?option=com_jem&view=event&id=723:sonder
 probe
END:VEVENT
END:VCALENDAR