BEGIN:VCALENDAR
VERSION:2.0
PRODID:-//81.169.145.159//NONSGML kigkonsult.se iCalcreator 2.20//
CALSCALE:GREGORIAN
METHOD:PUBLISH
X-WR-TIMEZONE:Europe/Berlin
BEGIN:VEVENT
UID:event575@Paulus-Chor Stuttgart
DTSTAMP:20260420T210707Z
CATEGORIES:Konzert
DESCRIPTION:Exequien\nKategorie: Konzert\nICS-Link: https://pauluschor.de/i
 ndex.php?option=com_jem&view=event&id=575:exequien\n
DTSTART;TZID=Europe/Berlin:20180324T190000
DTEND;TZID=Europe/Berlin:20180324T210000
LOCATION:Pauluskirche Stuttgart\,Paulusstr. 1\,70197 Stuttgart
SUMMARY:Exequien
URL:https://pauluschor.de/index.php?option=com_jem&view=event&id=575:exequi
 en
END:VEVENT
END:VCALENDAR