BEGIN:VCALENDAR
VERSION:2.0
PRODID:-//81.169.145.159//NONSGML kigkonsult.se iCalcreator 2.20//
CALSCALE:GREGORIAN
METHOD:PUBLISH
X-WR-TIMEZONE:Europe/Berlin
BEGIN:VEVENT
UID:event498@Paulus-Chor Stuttgart
DTSTAMP:20260421T135555Z
CATEGORIES:Konzert
DESCRIPTION:Telemann: Johannes-Passion\nKategorie: Konzert\nICS-Link: https
 ://pauluschor.de/index.php?option=com_jem&view=event&id=498:telemann-johan
 nespassion\n
DTSTART;TZID=Europe/Berlin:20170402T190000
DTEND;TZID=Europe/Berlin:20170402T210000
LOCATION:Pauluskirche Stuttgart\,Paulusstr. 1\,70197 Stuttgart
SUMMARY:Telemann: Johannes-Passion
URL:https://pauluschor.de/index.php?option=com_jem&view=event&id=498:telema
 nn-johannespassion
END:VEVENT
END:VCALENDAR