BEGIN:VCALENDAR
VERSION:2.0
PRODID:-//81.169.145.159//NONSGML kigkonsult.se iCalcreator 2.20//
CALSCALE:GREGORIAN
METHOD:PUBLISH
X-WR-TIMEZONE:Europe/Berlin
BEGIN:VEVENT
UID:event242@Paulus-Chor Stuttgart
DTSTAMP:20260422T153608Z
CATEGORIES:Probe
DESCRIPTION:Einsingprobe Hassler\nKategorie: Probe\nICS-Link: https://paulu
 schor.de/index.php?option=com_jem&view=event&id=242:Einsingprobe\n
DTSTART;TZID=Europe/Berlin:20120617T085500
DTEND;TZID=Europe/Berlin:20120617T100000
LOCATION:Pauluskirche Stuttgart\,Paulusstr. 1\,70197 Stuttgart
SUMMARY:Einsingprobe Hassler
URL:https://pauluschor.de/index.php?option=com_jem&view=event&id=242:Einsin
 gprobe
END:VEVENT
END:VCALENDAR