BEGIN:VCALENDAR
VERSION:2.0
PRODID:-//81.169.145.159//NONSGML kigkonsult.se iCalcreator 2.20//
CALSCALE:GREGORIAN
METHOD:PUBLISH
X-WR-TIMEZONE:Europe/Berlin
BEGIN:VEVENT
UID:event1034@Paulus-Chor Stuttgart
DTSTAMP:20260423T093445Z
CATEGORIES:Konzert
DESCRIPTION:Singen bei der Gemeindeversammlung zur Zukunft der Pauluskirche
 \nKategorie: Konzert\nICS-Link: https://pauluschor.de/index.php?option=com
 _jem&view=event&id=1034:gemeinde\n
DTSTART;TZID=Europe/Berlin:20230927T190000
DTEND;TZID=Europe/Berlin:20230927T200000
LOCATION:Pauluskirche Stuttgart\,Paulusstr. 1\,70197 Stuttgart
SUMMARY:Singen bei der Gemeindeversammlung zur Zukunft der Pauluskirche
URL:https://pauluschor.de/index.php?option=com_jem&view=event&id=1034:gemei
 nde
END:VEVENT
END:VCALENDAR